{
 "currentVersion": 10.91,
 "serviceDescription": "Orientační vrstvy - správní členění a adresy, určené k zobrazení nad ortofotomapou",
 "mapName": "Popisy_OF",
 "description": "",
 "copyrightText": "© ČÚZK",
 "supportsDynamicLayers": false,
 "layers": [
  {
   "id": 0,
   "name": "Copyright",
   "parentLayerId": -1,
   "defaultVisibility": true,
   "subLayerIds": [
    1,
    2,
    3
   ],
   "minScale": 0,
   "maxScale": 0,
   "type": "Group Layer"
  },
  {
   "id": 1,
   "name": "Copyright 1",
   "parentLayerId": 0,
   "defaultVisibility": true,
   "subLayerIds": null,
   "minScale": 60480,
   "maxScale": 30241,
   "type": "Feature Layer",
   "geometryType": "esriGeometryPoint"
  },
  {
   "id": 2,
   "name": "Copyright 2",
   "parentLayerId": 0,
   "defaultVisibility": true,
   "subLayerIds": null,
   "minScale": 30240,
   "maxScale": 7561,
   "type": "Feature Layer",
   "geometryType": "esriGeometryPoint"
  },
  {
   "id": 3,
   "name": "Copyright 3",
   "parentLayerId": 0,
   "defaultVisibility": true,
   "subLayerIds": null,
   "minScale": 7560,
   "maxScale": 0,
   "type": "Feature Layer",
   "geometryType": "esriGeometryPoint"
  },
  {
   "id": 4,
   "name": "Adresa",
   "parentLayerId": -1,
   "defaultVisibility": true,
   "subLayerIds": [
    5,
    6
   ],
   "minScale": 0,
   "maxScale": 0,
   "type": "Group Layer"
  },
  {
   "id": 5,
   "name": "Adresní místo",
   "parentLayerId": 4,
   "defaultVisibility": true,
   "subLayerIds": null,
   "minScale": 1890,
   "maxScale": 0,
   "type": "Feature Layer",
   "geometryType": "esriGeometryPoint"
  },
  {
   "id": 6,
   "name": "Ulice",
   "parentLayerId": 4,
   "defaultVisibility": true,
   "subLayerIds": null,
   "minScale": 7560,
   "maxScale": 0,
   "type": "Feature Layer",
   "geometryType": "esriGeometryPolyline"
  },
  {
   "id": 7,
   "name": "Geonames",
   "parentLayerId": -1,
   "defaultVisibility": true,
   "subLayerIds": null,
   "minScale": 0,
   "maxScale": 0,
   "type": "Feature Layer",
   "geometryType": "esriGeometryMultipoint"
  },
  {
   "id": 8,
   "name": "Správní hranice",
   "parentLayerId": -1,
   "defaultVisibility": true,
   "subLayerIds": [
    9,
    10,
    11,
    12
   ],
   "minScale": 0,
   "maxScale": 0,
   "type": "Group Layer"
  },
  {
   "id": 9,
   "name": "Správní hranice Zlínského kraje",
   "parentLayerId": 8,
   "defaultVisibility": true,
   "subLayerIds": null,
   "minScale": 0,
   "maxScale": 0,
   "type": "Feature Layer",
   "geometryType": "esriGeometryPolygon"
  },
  {
   "id": 10,
   "name": "Správní hranice ORP",
   "parentLayerId": 8,
   "defaultVisibility": true,
   "subLayerIds": null,
   "minScale": 0,
   "maxScale": 0,
   "type": "Feature Layer",
   "geometryType": "esriGeometryPolygon"
  },
  {
   "id": 11,
   "name": "Spravni hranice obce",
   "parentLayerId": 8,
   "defaultVisibility": true,
   "subLayerIds": null,
   "minScale": 0,
   "maxScale": 0,
   "type": "Feature Layer",
   "geometryType": "esriGeometryPolygon"
  },
  {
   "id": 12,
   "name": "Katastrální území",
   "parentLayerId": 8,
   "defaultVisibility": true,
   "subLayerIds": null,
   "minScale": 60480,
   "maxScale": 0,
   "type": "Feature Layer",
   "geometryType": "esriGeometryPolygon"
  }
 ],
 "tables": [],
 "spatialReference": {
  "wkid": 102067,
  "latestWkid": 5514
 },
 "singleFusedMapCache": true,
 "tileInfo": {
  "rows": 256,
  "cols": 256,
  "dpi": 96,
  "format": "PNG",
  "compressionQuality": 0,
  "origin": {
   "x": -33699800,
   "y": 33699800
  },
  "spatialReference": {
   "wkid": 102067,
   "latestWkid": 5514
  },
  "lods": [
   {
    "level": 0,
    "resolution": 512.0650241300483,
    "scale": 1935360
   },
   {
    "level": 1,
    "resolution": 256.03251206502415,
    "scale": 967680
   },
   {
    "level": 2,
    "resolution": 128.01625603251208,
    "scale": 483840
   },
   {
    "level": 3,
    "resolution": 64.00812801625604,
    "scale": 241920
   },
   {
    "level": 4,
    "resolution": 32.00406400812802,
    "scale": 120960
   },
   {
    "level": 5,
    "resolution": 16.00203200406401,
    "scale": 60480
   },
   {
    "level": 6,
    "resolution": 8.001016002032005,
    "scale": 30240
   },
   {
    "level": 7,
    "resolution": 4.000508001016002,
    "scale": 15120
   },
   {
    "level": 8,
    "resolution": 2.000254000508001,
    "scale": 7560
   },
   {
    "level": 9,
    "resolution": 1.0001270002540006,
    "scale": 3780
   },
   {
    "level": 10,
    "resolution": 0.5000635001270003,
    "scale": 1890
   },
   {
    "level": 11,
    "resolution": 0.25003175006350015,
    "scale": 945
   }
  ]
 },
 "initialExtent": {
  "xmin": -603393.586738633,
  "ymin": -1198603.1482994675,
  "xmax": -411241.18643383234,
  "ymax": -1125889.9148730005,
  "spatialReference": {
   "wkid": 102067,
   "latestWkid": 5514
  }
 },
 "fullExtent": {
  "xmin": -565204.1924553021,
  "ymin": -1213119.330305701,
  "xmax": -463667.74135503377,
  "ymax": -1124781.4600782155,
  "spatialReference": {
   "wkid": 102067,
   "latestWkid": 5514
  }
 },
 "minScale": 1935360,
 "maxScale": 945,
 "units": "esriMeters",
 "supportedImageFormatTypes": "PNG32,PNG24,PNG,JPG,DIB,TIFF,EMF,PS,PDF,GIF,SVG,SVGZ,BMP",
 "documentInfo": {
  "Title": "Správní členění a adresy",
  "Author": "Irena Křeková",
  "Comments": "Orientační vrstvy - správní členění a adresy, určené k zobrazení nad ortofotomapou",
  "Subject": "Orientační vrstvy - správní členění a adresy, určené k zobrazení nad ortofotomapou",
  "Category": "",
  "AntialiasingMode": "Normal",
  "TextAntialiasingMode": "Force",
  "Keywords": "základní mapa"
 },
 "capabilities": "Map,Query,Data",
 "supportedQueryFormats": "JSON, geoJSON",
 "exportTilesAllowed": false,
 "referenceScale": 0,
 "datumTransformations": [
  {
   "geoTransforms": [
    {
     "wkid": 108001,
     "latestWkid": 1241,
     "transformForward": true,
     "name": "NAD_1927_To_NAD_1983_NADCON"
    }
   ]
  },
  {
   "geoTransforms": [
    {
     "wkid": 108001,
     "latestWkid": 1241,
     "transformForward": false,
     "name": "NAD_1927_To_NAD_1983_NADCON"
    }
   ]
  }
 ],
 "supportsDatumTransformation": true,
 "maxRecordCount": 1000,
 "maxImageHeight": 4096,
 "maxImageWidth": 4096,
 "supportedExtensions": ""
}
